BEGIN:VCALENDAR
VERSION:2.0
PRODID:-//pretalx//papers.synesthesia.it//aiheroes-2026//speaker//A3UWAB
BEGIN:VTIMEZONE
TZID:CET
BEGIN:STANDARD
DTSTART:20001029T040000
RRULE:FREQ=YEARLY;BYDAY=-1SU;BYMONTH=10
TZNAME:CET
TZOFFSETFROM:+0200
TZOFFSETTO:+0100
END:STANDARD
BEGIN:DAYLIGHT
DTSTART:20000326T030000
RRULE:FREQ=YEARLY;BYDAY=-1SU;BYMONTH=3
TZNAME:CEST
TZOFFSETFROM:+0100
TZOFFSETTO:+0200
END:DAYLIGHT
END:VTIMEZONE
BEGIN:VEVENT
UID:pretalx-aiheroes-2026-L7VNK7@papers.synesthesia.it
DTSTART;TZID=CET:20260507T093000
DTEND;TZID=CET:20260507T113000
DESCRIPTION:Defaulting to cloud APIs is no longer the only way to ship AI i
 n iOS apps. This hands-on workshop dives into Apple Foundation Models\, mo
 ving past theory to build privacy-first AI features directly into native a
 pps. We will focus on practical implementation: how to actually run these 
 models\, customize them for your specific domain\, and empower them by pro
 viding external tools to enrich context and build truly smart\, localized 
 experiences. Requirements: MacBook\, Apple Intelligence-compatible iPhone\
 , and basic Swift/Xcode skills.
DTSTAMP:20260421T130745Z
LOCATION:Main Stage
SUMMARY:Edge Intelligence: Building with Apple Foundation Models on iOS - T
 omas Parizek
URL:https://papers.synesthesia.it/aiheroes-2026/talk/L7VNK7/
END:VEVENT
END:VCALENDAR
