BEGIN:VCALENDAR
VERSION:2.0
PRODID:-//pretalx//papers.synesthesia.it//aiheroes-2026//speaker//AUKREB
BEGIN:VTIMEZONE
TZID:CET
BEGIN:STANDARD
DTSTART:20001029T040000
RRULE:FREQ=YEARLY;BYDAY=-1SU;BYMONTH=10
TZNAME:CET
TZOFFSETFROM:+0200
TZOFFSETTO:+0100
END:STANDARD
BEGIN:DAYLIGHT
DTSTART:20000326T030000
RRULE:FREQ=YEARLY;BYDAY=-1SU;BYMONTH=3
TZNAME:CEST
TZOFFSETFROM:+0100
TZOFFSETTO:+0200
END:DAYLIGHT
END:VTIMEZONE
BEGIN:VEVENT
UID:pretalx-aiheroes-2026-VWN8XC@papers.synesthesia.it
DTSTART;TZID=CET:20260507T140000
DTEND;TZID=CET:20260507T144000
DESCRIPTION:The zero to one phase of an AI startup is where most projects q
 uietly fail. Not because the models are weak\, but because the problem is 
 wrong\, the scope is off\, the team is misbuilt\, and execution drifts awa
 y from real customer value.\n\nThis talk presents a practical zero to one 
 playbook for developers and technical leaders who want to move from builde
 r to founder in the AI era. It connects three elements that are usually tr
 eated separately: early product execution\, early team design\, and what i
 nvestors actually fund at pre seed and seed stage.\n\nYou will learn how t
 o choose a problem customers will pay to solve\, how to turn AI capabiliti
 es into a real product wedge instead of a demo\, how to run tight design p
 artner loops\, how to structure a two to four person early team\, which ro
 les to delay\, and which concrete signals make investors back early techni
 cal teams. The session also highlights common early stage failure patterns
 \, including overengineering\, premature scaling\, and misaligned hires.
DTSTAMP:20260421T130259Z
LOCATION:Main Stage
SUMMARY:Building an Early-Stage Startup: AI That Actually Works and What In
 vestors Fund - Marcello Domenis
URL:https://papers.synesthesia.it/aiheroes-2026/talk/VWN8XC/
END:VEVENT
END:VCALENDAR
