BEGIN:VCALENDAR
VERSION:2.0
PRODID:-//pretalx//papers.synesthesia.it//aiheroes-2026//speaker//JRECEK
BEGIN:VTIMEZONE
TZID:CET
BEGIN:STANDARD
DTSTART:20001029T040000
RRULE:FREQ=YEARLY;BYDAY=-1SU;BYMONTH=10
TZNAME:CET
TZOFFSETFROM:+0200
TZOFFSETTO:+0100
END:STANDARD
BEGIN:DAYLIGHT
DTSTART:20000326T030000
RRULE:FREQ=YEARLY;BYDAY=-1SU;BYMONTH=3
TZNAME:CEST
TZOFFSETFROM:+0100
TZOFFSETTO:+0200
END:DAYLIGHT
END:VTIMEZONE
BEGIN:VEVENT
UID:pretalx-aiheroes-2026-X7DJFN@papers.synesthesia.it
DTSTART;TZID=CET:20260507T113000
DTEND;TZID=CET:20260507T133000
DESCRIPTION:The usage of Artificial Intelligence in video game production h
 as immediately sparked controversy linked to the notion of ‘AI sloppines
 s’ and the risk of undermining the entire creative process. The workshop
 \, however\, aims to demonstrate in practical terms how Artificial Intelli
 gence can be used to streamline prototyping and the range of complex tasks
  involved in product development.\nStarting with the use of Claude Code an
 d related tools\, the workshop aims to give the audience a hands-on experi
 ence of the practical benefits of using AI in this field.
DTSTAMP:20260421T130631Z
LOCATION:Main Stage
SUMMARY:From dream to reality: how Claude Code supports video game developm
 ent - Marco Mazzaglia
URL:https://papers.synesthesia.it/aiheroes-2026/talk/X7DJFN/
END:VEVENT
END:VCALENDAR
